BEGIN:VCALENDAR
VERSION:2.0
PRODID:-//Enredadas - ECPv6.15.20//NONSGML v1.0//EN
CALSCALE:GREGORIAN
METHOD:PUBLISH
X-ORIGINAL-URL:https://enredadasconelpatrimonio.es
X-WR-CALDESC:Eventos para Enredadas
REFRESH-INTERVAL;VALUE=DURATION:PT1H
X-Robots-Tag:noindex
X-PUBLISHED-TTL:PT1H
BEGIN:VTIMEZONE
TZID:UTC
BEGIN:STANDARD
TZOFFSETFROM:+0000
TZOFFSETTO:+0000
TZNAME:UTC
DTSTART:20220101T000000
END:STANDARD
END:VTIMEZONE
BEGIN:VEVENT
DTSTART;VALUE=DATE:20231103
DTEND;VALUE=DATE:20231104
DTSTAMP:20260420T163829
CREATED:20231002T092528Z
LAST-MODIFIED:20231029T111740Z
UID:1754-1698969600-1699055999@enredadasconelpatrimonio.es
SUMMARY:Jornada Hilando Extremos en Granja de Torrehermosa (Badajoz)
DESCRIPTION:El próximo 3 de noviembre tendrá lugar la primera jornada del proyecto Hilando Extremos en la Casa de Cultura de Granja de Torrehermosa (Badajoz). \nHilando Extremos es un proyecto artístico inspirado en la cultura pastoril\, que busca poner en valor la importancia de la trashumancia en el contexto social\, cultural y económico actual de Extremadura. Está financiado por la Unión Eu­ropea – NextGenerationEU a través de las ayudas para la financiación de proyectos o iniciativas destinadas a ampliar y diversificar la oferta cultural en áreas no urbanas. \nLa jornada\, que se desarrolla a lo largo de un día completo\, incluye la proyección de un cortometraje\, un taller\, una ruta interactiva y un espectáculo teatral. \nEn este proyecto colaboran otras pequeñas empresas del sector cultural como: Darling Films\, Teselas Gestión Cultural\, Antonio del Hoyo\, AnaiLana\, Libera Teatro y David Romo (HERHEY!) \nPrograma de la jornada «Hilando Extremos» en Granja de Torrehermosa:\n11:00 h. Presentación del proyecto por Marta Herrarte\, directora del proyecto (Enredadas con el patrimonio). Casa de la Cultura. Avda. de Extremadura\, 11. \n12:00 h. Proyección del cortometraje Camino de pastores\, producido por Jelena Dragas (Darling Films) y Enredadas. A continuación\, se abrirá un debate con la participación ciudadana. \n12:30-14:00 h. Taller intergeneracional “Hilando extremos\, hilando historias” impartido por Enredadas con el patrimonio. Carbogás. Carretera del Parque\, 11. \n16:30-18:30 h. Ruta interactiva  “Trashumante” para todos los públicos por Ruth Bernardo (Enredadas). Salida desde Plaza Francisco Tejada Vizuete. \n16:00 a 20:30 h. Exposición efímera El tendedero de las historias\, diseñada por Anailana. Casa de la Cultura. Avda. de Extremadura\, 11. \n19:00  h. Espectáculo teatral Tirar del hilo\, por Libera Teatro. Casa de la Cultura. Avda. de Extremadura\, 11. \nDescarga el programa completo aquí.
URL:https://enredadasconelpatrimonio.es/event/jornada-hilando-extremos-en-granja-de-torrehermosa-badajoz
LOCATION:Casa de la Cultura\, Avenida de Extremadura\, Granja de Torrehermosa\, Badajoz\, 06910\, España
CATEGORIES:Jornadas Hilando Extremos
ATTACH;FMTTYPE=image/jpeg:https://enredadasconelpatrimonio.es/wp-content/uploads/2023/10/PORTADAS-DE-EVENTOS-AGENDA-ENREDADA-1.jpg
END:VEVENT
BEGIN:VEVENT
DTSTART;TZID=UTC:20231031T173000
DTEND;TZID=UTC:20231031T183000
DTSTAMP:20260420T163829
CREATED:20231029T120819Z
LAST-MODIFIED:20231029T120819Z
UID:1861-1698773400-1698777000@enredadasconelpatrimonio.es
SUMMARY:Cuentacuentos "El dragón Panzón y la bruja Cremalleras"
DESCRIPTION:El próximo martes 31 de octubre estaremos en la reinauguración de la Biblioteca de Langa con el Cuentacuentos «El dragón Panzón y la bruja Cremalleras»\, organizado por el Ayuntamiento de Langa y el AMPA Langa. \nFecha: 31 de octubre de 2023\, a las 17:30 h. \nLugar: Biblioteca Pública de Langa (Ávila)
URL:https://enredadasconelpatrimonio.es/event/cuentacuentos-el-dragon-panzon-y-la-bruja-cremalleras
LOCATION:Biblioteca Pública de Langa\, Langa\, Ávila\, 05213\, España
CATEGORIES:Cuentacuentos
END:VEVENT
BEGIN:VEVENT
DTSTART;TZID=UTC:20231031T060000
DTEND;TZID=UTC:20231031T190000
DTSTAMP:20260420T163829
CREATED:20231004T090348Z
LAST-MODIFIED:20231029T115231Z
UID:1787-1698732000-1698778800@enredadasconelpatrimonio.es
SUMMARY:Taller "La verdadera historia de la Catrina"
DESCRIPTION:Taller en el qué vamos a desentrañar la verdadera historia de la Catrina. Posteriormente cada participante va a elegir un personaje burlón y crear su propia catrina y calavera con técnicas plásticas y escritura creativa. \nPara público infantil de 6 a 12 años. \nLugar: Centro Municipal de Igualdad.  C. Antonio Royo Villanova\, s/n\, 47014 Valladolid \nInscripciones.
URL:https://enredadasconelpatrimonio.es/event/taller-la-verdadera-historia-de-la-catrina
LOCATION:Centro Municipal de Igualdad\, C. Antonio Royo Villanova\, s/n\, Valladolid\, Valladolid\, 47014\, España
CATEGORIES:Talleres
ATTACH;FMTTYPE=image/jpeg:https://enredadasconelpatrimonio.es/wp-content/uploads/2023/10/PORTADAS-DE-EVENTOS-AGENDA-ENREDADA-4.jpg
END:VEVENT
BEGIN:VEVENT
DTSTART;TZID=UTC:20231022T103000
DTEND;TZID=UTC:20231022T133000
DTSTAMP:20260420T163829
CREATED:20231004T080526Z
LAST-MODIFIED:20231004T080903Z
UID:1775-1697970600-1697981400@enredadasconelpatrimonio.es
SUMMARY:El Circo de Claudia en Santovenia (Valladolid)
DESCRIPTION:Claudia llega con su circo a la Biblioteca Pública Municipal de Santovenia de Pisuerga (Valladolid) con motivo del Dia de la Biblioteca el 24 de octubre para cantar\, jugar y soñar con todo el vecindario.\n\nDos pases de cuentos para familias\, niños y niñas a partir de 6 años. Con talleres de malabares de cariocas.\n\nLugar: Biblioteca Pública Municipal de Santovenia de Pisuerga (Valladolid).  C. Real\, 47\, 47155 Santovenia de Pisuerga (Valladolid).\n\n\nHorarios: 10:30 – 13:00 h.
URL:https://enredadasconelpatrimonio.es/event/circo-de-claudia-santovenia
LOCATION:Biblioteca Pública Municipal de Santovenia de Pisuerga\, C. Real\, 47\, Santovenia de Pisuerga\, Valladolid\, 47155
CATEGORIES:Talleres
END:VEVENT
BEGIN:VEVENT
DTSTART;TZID=UTC:20231014T180000
DTEND;TZID=UTC:20231014T193000
DTSTAMP:20260420T163829
CREATED:20231004T080047Z
LAST-MODIFIED:20231004T085639Z
UID:1773-1697306400-1697311800@enredadasconelpatrimonio.es
SUMMARY:El Circo de Claudia en Sinlabajos (Ávila)
DESCRIPTION:Claudia llega con su circo al Salón municipal de Sinlabajos (Ávila) para cantar\, jugar y soñar con sus vecinas y vecinos.\n\nCon taller de malabares cariocas muy divertido.\n\nLugar: Salón municipal de Sinlabajos. Plaza Constitución\, 1\, 05215 Sinlabajos (Ávila).
URL:https://enredadasconelpatrimonio.es/event/el-circo-de-claudia-en-sinlabajos-avila
LOCATION:Salón municipal de Sinlabajos\, Plaza Constitución\, 1\, Sinlabajos\, Ávila\, 05215\, España
CATEGORIES:Talleres
END:VEVENT
BEGIN:VEVENT
DTSTART;TZID=UTC:20231012T123000
DTEND;TZID=UTC:20231012T140000
DTSTAMP:20260420T163829
CREATED:20231004T071515Z
LAST-MODIFIED:20231004T075642Z
UID:1769-1697113800-1697119200@enredadasconelpatrimonio.es
SUMMARY:Visita Teatralizada “Patrimonio Cultural de Rueda y los oficios ligados al mundo del vino”. XXXIII Fiesta de la Vendimia de Rueda
DESCRIPTION:Visita teatralizada “Patrimonio Cultural de Rueda y los oficios ligados al mundo del vino” dentro de la XXXIII Fiesta de la Vendimia de Rueda. \nPara todos los públicos. \nAforo limitado: 2€/persona. \nVenta anticipada en la web: https://www.rutadelvinoderueda.com/ \nLugar: Ermita del Cristo. Rueda \nPrograma completo de la XXXIII Fiesta de la Vendimia de Rueda.
URL:https://enredadasconelpatrimonio.es/event/ruta-entre-historias-y-vinedos-en-la-fiesta-de-la-vendimia-de-rueda
CATEGORIES:Ruta teatralizada,Rutas
END:VEVENT
BEGIN:VEVENT
DTSTART;TZID=UTC:20231010T080000
DTEND;TZID=UTC:20231010T170000
DTSTAMP:20260420T163829
CREATED:20231004T071257Z
LAST-MODIFIED:20231004T071323Z
UID:1766-1696924800-1696957200@enredadasconelpatrimonio.es
SUMMARY:Menuda historia. La vuelta al mundo sin salir de Valladolid. Barriomundi
DESCRIPTION:Comenzamos nuestras rutas interculturales por Valladolid\, recorriendo su patrimonio mientras identificamos aquellos aspectos de otras culturas que han conformado y conforman nuestra ciudad \nBarriomundi es una propuesta de interculturalidad y patrimonio vallisoletano para los centros educativos de la ciudad de Valladolid. \nEstos talleres surgen como refuerzo pedagógico de la iniciativa del ayuntamiento a dar a conocer el patrimonio más cercano. \nMás información.
URL:https://enredadasconelpatrimonio.es/event/menuda-historia-la-vuelta-al-mundo-sin-salir-de-valladolid-barriomundi
LOCATION:Plaza de la Universidad\, Pl. de la Univ.\, Valladolid\, Valladolid\, 47002\, España
CATEGORIES:Rutas
END:VEVENT
BEGIN:VEVENT
DTSTART;TZID=UTC:20231007T100000
DTEND;TZID=UTC:20231007T140000
DTSTAMP:20260420T163829
CREATED:20231004T070659Z
LAST-MODIFIED:20231004T070659Z
UID:1763-1696672800-1696687200@enredadasconelpatrimonio.es
SUMMARY:Del valle al monte. Nos vemos en el Salerillo
DESCRIPTION:Ruta teatralizada por el Barco de los 5 Chozos en Villabañez (Valladolid) para conocer el patrimonio natural y cultural ligado a la tradición pastoril. \nLugar: La Casa de los Membrillos. Carraduero\, 6\, 47329 Villabáñez\, Valladolid. \nHorario: de 10:00 a 14:00 h.
URL:https://enredadasconelpatrimonio.es/event/del-valle-al-monte-nos-vemos-en-el-salerillo
LOCATION:La Casa de los Membrillos\, Carraduero\, 6\, Villabáñez\, Valladolid\, 47329\, España
CATEGORIES:Ruta teatralizada
END:VEVENT
BEGIN:VEVENT
DTSTART;TZID=UTC:20231005T180000
DTEND;TZID=UTC:20231005T200000
DTSTAMP:20260420T163829
CREATED:20231004T065029Z
LAST-MODIFIED:20231004T070227Z
UID:1757-1696528800-1696536000@enredadasconelpatrimonio.es
SUMMARY:Presentación del proyecto "Hilando Extremos" en Galerías VA
DESCRIPTION:Presentación del proyecto Hilando Extremos en Galerías VA. \nHorario: 18:00 a 20:00 h. \nLugar: Galerías VA. C. López Gómez\, 28\, 47002 Valladolid.
URL:https://enredadasconelpatrimonio.es/event/presentacion-del-proyecto-hilando-extremos-en-galerias-va
LOCATION:Galerías VA\, C. López Gómez\, 28\, Valladolid\, Valladolid\, 47002
CATEGORIES:Jornadas Hilando Extremos
ATTACH;FMTTYPE=image/jpeg:https://enredadasconelpatrimonio.es/wp-content/uploads/2023/10/PORTADAS-DE-EVENTOS-AGENDA-ENREDADA.jpg
END:VEVENT
BEGIN:VEVENT
DTSTART;TZID=UTC:20230801T080000
DTEND;TZID=UTC:20230909T233000
DTSTAMP:20260420T163829
CREATED:20230802T172821Z
LAST-MODIFIED:20230802T213032Z
UID:1322-1690876800-1694302200@enredadasconelpatrimonio.es
SUMMARY:¡Comienza nuestro crowdfunding!
DESCRIPTION:  \n\nNuestro objetivo es impulsar un espacio multidisciplinar y creativo en La Parrilla (Valladolid) que busca generar actividades culturales relacionadas con el arte\, la historia\, el patrimonio\, las artes escénicas\, entre otras disciplinas\, en el entorno rural.\n\n\n\nUno de los escollos y el principal problema que tenemos actualmente es la falta de un espacio de creación y trabajo. Es necesario para continuar creciendo disponer de un espacio de taller\, administración y creación con el objetivo de desarrollar nuestro trabajo con eficacia y calidad. Esto además nos permitiría ampliar nuestros servicios\, impulsando una amplia oferta de actividades educativas y culturales ligadas al patrimonio cultural\, haciendo especial hincapié en el patrimonio inmaterial ligado a las artes escénicas (narración oral y títeres) de Castilla y León.\n\n\n\nhttps://www.goteo.org/project/enredadas?fbclid=IwAR1OAawXef3S9mloQ-8Ur0bnduWevSv-_DQUwtbmSQcrEQeCXrsUqDPxzvE
URL:https://enredadasconelpatrimonio.es/event/comienza-nuestro-crowdfunding
ATTACH;FMTTYPE=image/png:https://enredadasconelpatrimonio.es/wp-content/uploads/2023/08/Captura-de-pantalla-2023-08-02-a-las-18.37.42.png
END:VEVENT
BEGIN:VEVENT
DTSTART;TZID=UTC:20230731T080000
DTEND;TZID=UTC:20231130T170000
DTSTAMP:20260420T163829
CREATED:20230928T154756Z
LAST-MODIFIED:20231004T070313Z
UID:1711-1690790400-1701363600@enredadasconelpatrimonio.es
SUMMARY:Proyecto "Hilando Extremos"
DESCRIPTION:¿Qué es Hilando Extremos?\nHilando Extremos es un proyecto artístico inspirado en la cultura pastoril\, que busca poner en valor la importancia de la trashumancia en el contexto social\, cultural y económico actual de Extremadura. \nEl proyecto se divide en varias acciones: \n\nLa grabación y montaje de un documental sobre la trashumancia en Extremadura.\nEl diseño de seis jornadas de un día completo en seis localidades\, que coinciden con el inicio y el final\, dentro del territorio extremeño\, de tres de las seis cañadas reales que atraviesan la región. Estas jornadas incluyen rutas\, talleres\, artes plásticas y un espectáculo teatral producido para este proyecto a cargo de la compañía de Libera Teatro.\nLa creación de otros materiales complementarios como un mapa de actividades y recursos didácticos.\n\nEn este proyecto colaboran otras pequeñas empresas del sector cultural como: Darling Films\, Teselas Gestión Cultural\, Antonio del Hoyo\, AnaiLana\, Libera Teatro y David Romo (HERHEY!) \nFechas: de agosto a noviembre de 2023. \nEl germen del proyecto\nDesde el año 2017 la trashumancia se considera Patrimonio Cultural Inmaterial en España. La propia legislación habla de la práctica trashumante como un “patrimonio vivo” vertebrador de cultura y generador de patrimonio\, festejos\, artesanía y tradiciones. Igualmente\, ha sido uno de los mecanismos tradicionales para el intercambio cultural a lo largo de toda la Península. \nA esta declaración se sumó la UNESCO en el año 2019\, declarando la práctica como Patrimonio Cultural Inmaterial de la Humanidad. Más recientemente\, en noviembre de 2022\, la trashumancia en Extremadura se declaró Bien de Interés Cultural (BIC). Tal y como recoge el Diario Oficial de Extremadura\, “la trashumancia ha supuesto una de las circunstancias históricas que más ha condicionado la configuración de los paisajes extremeños desde sus orígenes hasta la actualidad”. \nExtremadura\, con sus seis cañadas reales\, es un claro ejemplo de la importancia de esta práctica como uno de los fenómenos económicos\, sociales y culturales que ha definido e identificado la región a lo largo de la historia. \nSe trata de un proyecto subvencionado con las ayudas para la financiación de proyectos o iniciativas destinadas a ampliar y diversificar la oferta cultural en áreas no urbanas. Al amparo de los Fondos de NextGeneration EU y el Mecanismo de Recuperación y Resiliencia del reglamento (UE) 2021/241.
URL:https://enredadasconelpatrimonio.es/event/proyecto-hilando-extremos
CATEGORIES:Jornadas Hilando Extremos
ATTACH;FMTTYPE=image/jpeg:https://enredadasconelpatrimonio.es/wp-content/uploads/2023/10/PORTADAS-DE-EVENTOS-AGENDA-ENREDADA.jpg
END:VEVENT
END:VCALENDAR