BEGIN:VCALENDAR
VERSION:2.0
PRODID:-//Enredadas - ECPv6.15.20//NONSGML v1.0//EN
CALSCALE:GREGORIAN
METHOD:PUBLISH
X-WR-CALNAME:Enredadas
X-ORIGINAL-URL:https://enredadasconelpatrimonio.es
X-WR-CALDESC:Eventos para Enredadas
REFRESH-INTERVAL;VALUE=DURATION:PT1H
X-Robots-Tag:noindex
X-PUBLISHED-TTL:PT1H
BEGIN:VTIMEZONE
TZID:UTC
BEGIN:STANDARD
TZOFFSETFROM:+0000
TZOFFSETTO:+0000
TZNAME:UTC
DTSTART:20230101T000000
END:STANDARD
END:VTIMEZONE
BEGIN:VEVENT
DTSTART;TZID=UTC:20240524T213000
DTEND;TZID=UTC:20240524T213000
DTSTAMP:20260424T091202
CREATED:20240520T112520Z
LAST-MODIFIED:20240520T112956Z
UID:2122-1716586200-1716586200@enredadasconelpatrimonio.es
SUMMARY:T-CUENTO
DESCRIPTION:T-CUENTO: «Hilando Extremos» con Marta Herrarte Sanz_Enredadas con el Patrimonio-El Calabacín Errante/Valladolid [CASTILLA Y LEÓN]. Proyecto de Educación e interpretación del patrimonio inspirado en la cultura pastoril. Incluye la proyección del corto documental «Camino de Pastores».
URL:https://enredadasconelpatrimonio.es/event/t-cuento
LOCATION:Patio de la Igualdad\, Guareña\, Badajoz\, 06470\, España
CATEGORIES:Jornadas Hilando Extremos
ATTACH;FMTTYPE=image/jpeg:https://enredadasconelpatrimonio.es/wp-content/uploads/2024/05/WhatsApp-Image-2024-05-18-at-10.40.32.jpeg
END:VEVENT
END:VCALENDAR