BEGIN:VCALENDAR
VERSION:2.0
PRODID:-//Enredadas - ECPv6.15.20//NONSGML v1.0//EN
CALSCALE:GREGORIAN
METHOD:PUBLISH
X-WR-CALNAME:Enredadas
X-ORIGINAL-URL:https://enredadasconelpatrimonio.es
X-WR-CALDESC:Eventos para Enredadas
REFRESH-INTERVAL;VALUE=DURATION:PT1H
X-Robots-Tag:noindex
X-PUBLISHED-TTL:PT1H
BEGIN:VTIMEZONE
TZID:UTC
BEGIN:STANDARD
TZOFFSETFROM:+0000
TZOFFSETTO:+0000
TZNAME:UTC
DTSTART:20220101T000000
END:STANDARD
END:VTIMEZONE
BEGIN:VEVENT
DTSTART;TZID=UTC:20231121T183000
DTEND;TZID=UTC:20231121T193000
DTSTAMP:20260420T115425
CREATED:20231029T122423Z
LAST-MODIFIED:20231029T122813Z
UID:1873-1700591400-1700595000@enredadasconelpatrimonio.es
SUMMARY:Jugando con los cuentos "Sopa de calabaza"\, de Helen Cooper.
DESCRIPTION:Jugando con los cuentos es una actividad organizada por la Biblioteca de Castilla y León con cuentacuentos para niños los martes a las 18:30 h en la sala infantil\, en colaboración con Ruth Bernardo de “Enredadas». \n\nPara participar es necesario inscribirse en la sala infantil de manera presencial a partir del día 27 de octubre a las 10:00 h. Las inscripciones para todos los talleres del mes se realizarán en la misma fecha. \nEs obligatorio que el niño disponga del carné de usuario de las Bibliotecas de Castilla y León. \nDuración: 60 minutos aprox.\nParticipantes: máximo 12 niños y niñas\nEdad: a partir de 4 años\nInscripciones: a partir del 27 de octubre (10:00h.) \nMartes 21 de noviembre de 2023 a las 18:30 horas: Sopa de calabaza\, de Helen Cooper\nMientras se toman una sopa de calabaza\, tres amigos intentan solucionara un conflicto\, que\, bien gestionado\, tiene solución. La discusión va pasando por fases y los amigos van descubriendo que convivir significa ceder\, colaborar\, respetar\, asumir compromisos y cumplir con las obligaciones. Esta lectura enseña el trabajo en equipo\, el compañerismo\, la tolerancia\, la empatía y\, sobre todo\, el valor de la amistad. \nMás información.
URL:https://enredadasconelpatrimonio.es/event/sopa-de-calabaza-helen-cooper
LOCATION:Biblioteca de Castilla y León\, Plaza Trinidad\, 2\, Valladolid\, Valladolid\, 47003\, España
CATEGORIES:Cuentacuentos
END:VEVENT
END:VCALENDAR