BEGIN:VCALENDAR
VERSION:2.0
PRODID:-//Enredadas - ECPv6.15.20//NONSGML v1.0//EN
CALSCALE:GREGORIAN
METHOD:PUBLISH
X-WR-CALNAME:Enredadas
X-ORIGINAL-URL:https://enredadasconelpatrimonio.es
X-WR-CALDESC:Eventos para Enredadas
REFRESH-INTERVAL;VALUE=DURATION:PT1H
X-Robots-Tag:noindex
X-PUBLISHED-TTL:PT1H
BEGIN:VTIMEZONE
TZID:UTC
BEGIN:STANDARD
TZOFFSETFROM:+0000
TZOFFSETTO:+0000
TZNAME:UTC
DTSTART:20220101T000000
END:STANDARD
END:VTIMEZONE
BEGIN:VEVENT
DTSTART;TZID=UTC:20230731T080000
DTEND;TZID=UTC:20231130T170000
DTSTAMP:20260420T090612
CREATED:20230928T154756Z
LAST-MODIFIED:20231004T070313Z
UID:1711-1690790400-1701363600@enredadasconelpatrimonio.es
SUMMARY:Proyecto "Hilando Extremos"
DESCRIPTION:¿Qué es Hilando Extremos?\nHilando Extremos es un proyecto artístico inspirado en la cultura pastoril\, que busca poner en valor la importancia de la trashumancia en el contexto social\, cultural y económico actual de Extremadura. \nEl proyecto se divide en varias acciones: \n\nLa grabación y montaje de un documental sobre la trashumancia en Extremadura.\nEl diseño de seis jornadas de un día completo en seis localidades\, que coinciden con el inicio y el final\, dentro del territorio extremeño\, de tres de las seis cañadas reales que atraviesan la región. Estas jornadas incluyen rutas\, talleres\, artes plásticas y un espectáculo teatral producido para este proyecto a cargo de la compañía de Libera Teatro.\nLa creación de otros materiales complementarios como un mapa de actividades y recursos didácticos.\n\nEn este proyecto colaboran otras pequeñas empresas del sector cultural como: Darling Films\, Teselas Gestión Cultural\, Antonio del Hoyo\, AnaiLana\, Libera Teatro y David Romo (HERHEY!) \nFechas: de agosto a noviembre de 2023. \nEl germen del proyecto\nDesde el año 2017 la trashumancia se considera Patrimonio Cultural Inmaterial en España. La propia legislación habla de la práctica trashumante como un “patrimonio vivo” vertebrador de cultura y generador de patrimonio\, festejos\, artesanía y tradiciones. Igualmente\, ha sido uno de los mecanismos tradicionales para el intercambio cultural a lo largo de toda la Península. \nA esta declaración se sumó la UNESCO en el año 2019\, declarando la práctica como Patrimonio Cultural Inmaterial de la Humanidad. Más recientemente\, en noviembre de 2022\, la trashumancia en Extremadura se declaró Bien de Interés Cultural (BIC). Tal y como recoge el Diario Oficial de Extremadura\, “la trashumancia ha supuesto una de las circunstancias históricas que más ha condicionado la configuración de los paisajes extremeños desde sus orígenes hasta la actualidad”. \nExtremadura\, con sus seis cañadas reales\, es un claro ejemplo de la importancia de esta práctica como uno de los fenómenos económicos\, sociales y culturales que ha definido e identificado la región a lo largo de la historia. \nSe trata de un proyecto subvencionado con las ayudas para la financiación de proyectos o iniciativas destinadas a ampliar y diversificar la oferta cultural en áreas no urbanas. Al amparo de los Fondos de NextGeneration EU y el Mecanismo de Recuperación y Resiliencia del reglamento (UE) 2021/241.
URL:https://enredadasconelpatrimonio.es/event/proyecto-hilando-extremos
CATEGORIES:Jornadas Hilando Extremos
ATTACH;FMTTYPE=image/jpeg:https://enredadasconelpatrimonio.es/wp-content/uploads/2023/10/PORTADAS-DE-EVENTOS-AGENDA-ENREDADA.jpg
END:VEVENT
END:VCALENDAR