BEGIN:VCALENDAR
VERSION:2.0
PRODID:-//Enredadas - ECPv6.15.20//NONSGML v1.0//EN
CALSCALE:GREGORIAN
METHOD:PUBLISH
X-WR-CALNAME:Enredadas
X-ORIGINAL-URL:https://enredadasconelpatrimonio.es
X-WR-CALDESC:Eventos para Enredadas
REFRESH-INTERVAL;VALUE=DURATION:PT1H
X-Robots-Tag:noindex
X-PUBLISHED-TTL:PT1H
BEGIN:VTIMEZONE
TZID:UTC
BEGIN:STANDARD
TZOFFSETFROM:+0000
TZOFFSETTO:+0000
TZNAME:UTC
DTSTART:20220101T000000
END:STANDARD
END:VTIMEZONE
BEGIN:VEVENT
DTSTART;TZID=UTC:20231114T183000
DTEND;TZID=UTC:20231114T193000
DTSTAMP:20260420T115205
CREATED:20231029T122103Z
LAST-MODIFIED:20231029T122736Z
UID:1871-1699986600-1699990200@enredadasconelpatrimonio.es
SUMMARY:Jugando con los cuentos "Otoño"\, de Gerda Muller.
DESCRIPTION:Jugando con los cuentos es una actividad organizada por la Biblioteca de Castilla y León con cuentacuentos para niños los martes a las 18:30 h en la sala infantil\, en colaboración con Ruth Bernardo de “Enredadas». \n\nPara participar es necesario inscribirse en la sala infantil de manera presencial a partir del día 27 de octubre a las 10:00 h. Las inscripciones para todos los talleres del mes se realizarán en la misma fecha. \nEs obligatorio que el niño disponga del carné de usuario de las Bibliotecas de Castilla y León. \nDuración: 60 minutos aprox.\nParticipantes: máximo 12 niños y niñas\nEdad: a partir de 4 años\nInscripciones: a partir del 27 de octubre (10:00h.) \nMartes 14 de noviembre de 2023 a las 18:30 horas: Otoño\, de Gerda Muller.\nEl otoño es esa estación del año donde parece que todos los colores del mundo están preparados para nacer. El otoño huele a extensos pinares\, a humedad de lluvia que cae sin cesar y nos hace más felices\, a vendimia\, a frutos secos y carpetas de colegio recién estrenadas. En otoño pasan muchas cosas que no nos podemos perder. La imaginación se alimenta en esta nueva estación y te ayudaremos a encenderla. \nMás información.
URL:https://enredadasconelpatrimonio.es/event/otono-gerda-muller
LOCATION:Biblioteca de Castilla y León\, Plaza Trinidad\, 2\, Valladolid\, Valladolid\, 47003\, España
CATEGORIES:Cuentacuentos
END:VEVENT
END:VCALENDAR