BEGIN:VCALENDAR
VERSION:2.0
PRODID:-//Enredadas - ECPv6.15.20//NONSGML v1.0//EN
CALSCALE:GREGORIAN
METHOD:PUBLISH
X-WR-CALNAME:Enredadas
X-ORIGINAL-URL:https://enredadasconelpatrimonio.es
X-WR-CALDESC:Eventos para Enredadas
REFRESH-INTERVAL;VALUE=DURATION:PT1H
X-Robots-Tag:noindex
X-PUBLISHED-TTL:PT1H
BEGIN:VTIMEZONE
TZID:UTC
BEGIN:STANDARD
TZOFFSETFROM:+0000
TZOFFSETTO:+0000
TZNAME:UTC
DTSTART:20220101T000000
END:STANDARD
END:VTIMEZONE
BEGIN:VEVENT
DTSTART;TZID=UTC:20231223T050000
DTEND;TZID=UTC:20231223T191500
DTSTAMP:20260420T150948
CREATED:20231214T131401Z
LAST-MODIFIED:20231214T131401Z
UID:1957-1703307600-1703358900@enredadasconelpatrimonio.es
SUMMARY:La vaca de la Tía Teresa y taller de galletas
DESCRIPTION:Ven a pasar la tarde al calor de la hoguera contando cuentos y elaborando galletas que luego degustaremos con un chocolatito caliente. \nLugar: Ventosa de Pisuerga (Palencia)
URL:https://enredadasconelpatrimonio.es/event/la-vaca-de-la-tia-teresa-y-taller-de-galletas
CATEGORIES:Cuentacuentos,Talleres
END:VEVENT
END:VCALENDAR