BEGIN:VCALENDAR
VERSION:2.0
PRODID:-//Enredadas - ECPv6.15.20//NONSGML v1.0//EN
CALSCALE:GREGORIAN
METHOD:PUBLISH
X-WR-CALNAME:Enredadas
X-ORIGINAL-URL:https://enredadasconelpatrimonio.es
X-WR-CALDESC:Eventos para Enredadas
REFRESH-INTERVAL;VALUE=DURATION:PT1H
X-Robots-Tag:noindex
X-PUBLISHED-TTL:PT1H
BEGIN:VTIMEZONE
TZID:UTC
BEGIN:STANDARD
TZOFFSETFROM:+0000
TZOFFSETTO:+0000
TZNAME:UTC
DTSTART:20230101T000000
END:STANDARD
END:VTIMEZONE
BEGIN:VEVENT
DTSTART;TZID=UTC:20240109T183000
DTEND;TZID=UTC:20240109T183000
DTSTAMP:20260420T133723
CREATED:20231226T075505Z
LAST-MODIFIED:20231226T075505Z
UID:1983-1704825000-1704825000@enredadasconelpatrimonio.es
SUMMARY:Jugando con los cuentos "Un invierno equivocado"\, de Ida Vitale y María Fló.
DESCRIPTION:Jugando con los cuentos es una actividad organizada por la Biblioteca de Castilla y León con cuentacuentos para niños los martes a las 18:30 h en la sala infantil\, en colaboración con Ruth Bernardo de “Enredadas». \n\nPara participar es necesario inscribirse en la sala infantil de manera presencial a partir del día 22 de diciembre a las 10:00 h. Las inscripciones para todos los talleres del mes se realizarán en la misma fecha. \nEs obligatorio que el niño disponga del carné de usuario de las Bibliotecas de Castilla y León. \nDuración: 60 minutos aprox.\nParticipantes: máximo 12 niños y niñas\nEdad: a partir de 4 años\nLugar y hora: en la sala infantil a las 18:30 h.\nInscripciones: a partir del 22 de diciembre (10:00h.) \nMartes 9 de enero de 2024 a las 18:30 horas: «Un invierno equivocado»\, de Ida Vitale y María Fló.\nNodar es un pequeño país perdido en el mapa donde viven en armonía con la naturaleza. Las montañas lo protegen de los vientos\, el río caudaloso riega los sauces y los humanos se comunican con los pájaros para ayudarse entre sí. Pero un día\, el invierno llega inesperado y confundido a este lugar tan maravilloso. Nadie sabe qué hace el invierno en un día de primavera\, nadie sabe cómo ayudar al invierno a volver a encontrar el lugar adecuado. \nMás información.
URL:https://enredadasconelpatrimonio.es/event/jugando-con-los-cuentos-un-invierno-equivocado-de-ida-vitale-y-maria-flo
LOCATION:Biblioteca de Castilla y León\, Plaza Trinidad\, 2\, Valladolid\, Valladolid\, 47003\, España
CATEGORIES:Cuentacuentos
ATTACH;FMTTYPE=image/png:https://enredadasconelpatrimonio.es/wp-content/uploads/2023/12/PORTADAS-DE-EVENTOS-AGENDA.png
END:VEVENT
END:VCALENDAR