BEGIN:VCALENDAR
VERSION:2.0
PRODID:-//Enredadas - ECPv6.15.20//NONSGML v1.0//EN
CALSCALE:GREGORIAN
METHOD:PUBLISH
X-WR-CALNAME:Enredadas
X-ORIGINAL-URL:https://enredadasconelpatrimonio.es
X-WR-CALDESC:Eventos para Enredadas
REFRESH-INTERVAL;VALUE=DURATION:PT1H
X-Robots-Tag:noindex
X-PUBLISHED-TTL:PT1H
BEGIN:VTIMEZONE
TZID:UTC
BEGIN:STANDARD
TZOFFSETFROM:+0000
TZOFFSETTO:+0000
TZNAME:UTC
DTSTART:20220101T000000
END:STANDARD
END:VTIMEZONE
BEGIN:VEVENT
DTSTART;TZID=UTC:20231226T110000
DTEND;TZID=UTC:20231226T120000
DTSTAMP:20260424T084155
CREATED:20231214T121431Z
LAST-MODIFIED:20231218T081055Z
UID:1944-1703588400-1703592000@enredadasconelpatrimonio.es
SUMMARY:Jugando con los cuentos "Los juguetes mágicos de la Familia Clauss"\, de Dasid Litchield
DESCRIPTION:Jugando con los cuentos es una actividad organizada por la Biblioteca de Castilla y León con cuentacuentos para niños los martes a las 18:30 h en la sala infantil\, en colaboración con Ruth Bernardo de “Enredadas». \n\nPara participar es necesario inscribirse en la sala infantil de manera presencial a partir del día 1 de diciembre a las 10:00 h. Las inscripciones para todos los talleres del mes se realizarán en la misma fecha. \nEs obligatorio que el niño disponga del carné de usuario de las Bibliotecas de Castilla y León. \nDuración: 60 minutos aprox.\nParticipantes: máximo 12 niños y niñas\nEdad: a partir de 4 años\nLugar y hora: en la sala infantil a las 11:00 h.\nInscripciones: a partir del 1 de diciembre (10:00h.) \nMartes 26 de diciembre de 2023 a las 18:30 horas:  «Los juguetes mágicos de la Familia Clauss«\, de Dasid Litchield.\nLa familia Clauss está muy comprometida con la Navidad. Tienen una tienda de juguetes donde siempre hay gente\, de día y de noche. Durante la noche fabrican sus juguetes sin descanso y durante el día se venden con una gran sonrisa. Nico\, es el más pequeño de la familia y está realmente asombrado por el trabajo de su de su padre y su tío. Una tarde de nieve en la ciudad\, una niña mira atenta y con la frente pegada al escaparate de la tienda. Nico se da cuenta y entonces comienza a seguirla hasta que de pronto la niña le descubre. \nMás información.
URL:https://enredadasconelpatrimonio.es/event/jugando-con-los-cuentos-los-juguetes-magicos-de-la-familia-clauss
LOCATION:Biblioteca de Castilla y León\, Plaza Trinidad\, 2\, Valladolid\, Valladolid\, 47003\, España
CATEGORIES:Cuentacuentos
ATTACH;FMTTYPE=image/jpeg:https://enredadasconelpatrimonio.es/wp-content/uploads/2023/12/PORTADAS-DE-EVENTOS-AGENDA-5.jpg
END:VEVENT
END:VCALENDAR