BEGIN:VCALENDAR
VERSION:2.0
PRODID:-//Enredadas - ECPv6.15.20//NONSGML v1.0//EN
CALSCALE:GREGORIAN
METHOD:PUBLISH
X-WR-CALNAME:Enredadas
X-ORIGINAL-URL:https://enredadasconelpatrimonio.es
X-WR-CALDESC:Eventos para Enredadas
REFRESH-INTERVAL;VALUE=DURATION:PT1H
X-Robots-Tag:noindex
X-PUBLISHED-TTL:PT1H
BEGIN:VTIMEZONE
TZID:UTC
BEGIN:STANDARD
TZOFFSETFROM:+0000
TZOFFSETTO:+0000
TZNAME:UTC
DTSTART:20230101T000000
END:STANDARD
END:VTIMEZONE
BEGIN:VEVENT
DTSTART;TZID=UTC:20240123T183000
DTEND;TZID=UTC:20240123T183000
DTSTAMP:20260420T133752
CREATED:20231226T081219Z
LAST-MODIFIED:20231226T081219Z
UID:1999-1706034600-1706034600@enredadasconelpatrimonio.es
SUMMARY:Jugando con los cuentos "La Isla de los Mocos"\, de Alicia Acosta
DESCRIPTION:Jugando con los cuentos es una actividad organizada por la Biblioteca de Castilla y León con cuentacuentos para niños los martes a las 18:30 h en la sala infantil\, en colaboración con Ruth Bernardo de “Enredadas». \n\nPara participar es necesario inscribirse en la sala infantil de manera presencial a partir del día 22 de diciembre a las 10:00 h. Las inscripciones para todos los talleres del mes se realizarán en la misma fecha. \nEs obligatorio que el niño disponga del carné de usuario de las Bibliotecas de Castilla y León. \nDuración: 60 minutos aprox.\nParticipantes: máximo 12 niños y niñas\nEdad: a partir de 4 años\nLugar y hora: en la sala infantil a las 18:30 h.\nInscripciones: a partir del 22 de diciembre (10:00h.) \nMartes 30 de enero de 2024 a las 18:30 horas: «La Isla de los Mocos«\, de Alicia Acosta.\n\n\n\n\nEl pequeño pirata Serafín desembarca con su tripulación en una isla muy rara y muy especial llamada Islachís\, donde los habitantes son narices. Narices enormes y chiquitas\, narices amarillas\, blancas\, rojas y negras. Lo peor de todo es que estas narices están todo el día echando mocos pegajosos y Serafín no sabe cómo va a escapar de allí. Será necesario encender el botón de la imaginación. Veremos… \n\n\n\n\nMás información.
URL:https://enredadasconelpatrimonio.es/event/jugando-con-los-cuentos-la-isla-de-los-mocos-de-alicia-acosta-2
LOCATION:Biblioteca de Castilla y León\, Plaza Trinidad\, 2\, Valladolid\, Valladolid\, 47003\, España
CATEGORIES:Cuentacuentos
ATTACH;FMTTYPE=image/png:https://enredadasconelpatrimonio.es/wp-content/uploads/2023/12/PORTADAS-DE-EVENTOS-AGENDA-2.png
END:VEVENT
END:VCALENDAR