BEGIN:VCALENDAR
VERSION:2.0
PRODID:-//Enredadas - ECPv6.15.20//NONSGML v1.0//EN
CALSCALE:GREGORIAN
METHOD:PUBLISH
X-WR-CALNAME:Enredadas
X-ORIGINAL-URL:https://enredadasconelpatrimonio.es
X-WR-CALDESC:Eventos para Enredadas
REFRESH-INTERVAL;VALUE=DURATION:PT1H
X-Robots-Tag:noindex
X-PUBLISHED-TTL:PT1H
BEGIN:VTIMEZONE
TZID:UTC
BEGIN:STANDARD
TZOFFSETFROM:+0000
TZOFFSETTO:+0000
TZNAME:UTC
DTSTART:20220101T000000
END:STANDARD
END:VTIMEZONE
BEGIN:VEVENT
DTSTART;TZID=UTC:20231219T183000
DTEND;TZID=UTC:20231219T193000
DTSTAMP:20260420T144332
CREATED:20231214T121151Z
LAST-MODIFIED:20231214T130647Z
UID:1942-1703010600-1703014200@enredadasconelpatrimonio.es
SUMMARY:Jugando con los cuentos "En este cuento no hay ningún lobo feroz"\, de Lou Carter y Deborah Albright
DESCRIPTION:Jugando con los cuentos es una actividad organizada por la Biblioteca de Castilla y León con cuentacuentos para niños los martes a las 18:30 h en la sala infantil\, en colaboración con Ruth Bernardo de “Enredadas». \n\nPara participar es necesario inscribirse en la sala infantil de manera presencial a partir del día 1 de diciembre a las 10:00 h. Las inscripciones para todos los talleres del mes se realizarán en la misma fecha. \nEs obligatorio que el niño disponga del carné de usuario de las Bibliotecas de Castilla y León. \nDuración: 60 minutos aprox.\nParticipantes: máximo 12 niños y niñas\nEdad: a partir de 4 años\nLugar y hora: en la sala infantil a las 18:30 h\nInscripciones: a partir del 1 de diciembre (10:00h.) \nMartes 19 de diciembre de 2023 a las 18:30 horas:  «En este cuento no hay ningún lobo feroz»\, de Lou Carter y Deborah Albright.\nParece que el lobo feroz últimamente no llega a su hora a trabajar. Es el lobo que sopla y sopla hasta conseguir derribar la casa de los cerditos. Es el lobo que quiere devorar a Caperucita y a su abuela y está cansado de tener un empleo tan agotador y de estar siempre de aquí para allá intentando quedar bien para ser el malo del cuento y que siempre le toque perder. Hoy el lobo se ha plantado y no quiere aparece más en los cuentos. \nMás información.
URL:https://enredadasconelpatrimonio.es/event/jugando-con-los-cuentos-en-este-cuento-no-hay-ningun-lobo-feroz
LOCATION:Biblioteca de Castilla y León\, Plaza Trinidad\, 2\, Valladolid\, Valladolid\, 47003\, España
CATEGORIES:Cuentacuentos
ATTACH;FMTTYPE=image/jpeg:https://enredadasconelpatrimonio.es/wp-content/uploads/2023/12/PORTADAS-DE-EVENTOS-AGENDA-4.jpg
END:VEVENT
END:VCALENDAR