BEGIN:VCALENDAR
VERSION:2.0
PRODID:-//Enredadas - ECPv6.15.20//NONSGML v1.0//EN
CALSCALE:GREGORIAN
METHOD:PUBLISH
X-WR-CALNAME:Enredadas
X-ORIGINAL-URL:https://enredadasconelpatrimonio.es
X-WR-CALDESC:Eventos para Enredadas
REFRESH-INTERVAL;VALUE=DURATION:PT1H
X-Robots-Tag:noindex
X-PUBLISHED-TTL:PT1H
BEGIN:VTIMEZONE
TZID:UTC
BEGIN:STANDARD
TZOFFSETFROM:+0000
TZOFFSETTO:+0000
TZNAME:UTC
DTSTART:20220101T000000
END:STANDARD
END:VTIMEZONE
BEGIN:VEVENT
DTSTART;TZID=UTC:20231128T183000
DTEND;TZID=UTC:20231128T193000
DTSTAMP:20260420T091308
CREATED:20231029T123022Z
LAST-MODIFIED:20231029T123022Z
UID:1880-1701196200-1701199800@enredadasconelpatrimonio.es
SUMMARY:Jugando con los cuentos "Cuentos de otoño"\, de Lucía\, mi pediatra
DESCRIPTION:Jugando con los cuentos es una actividad organizada por la Biblioteca de Castilla y León con cuentacuentos para niños los martes a las 18:30 h en la sala infantil\, en colaboración con Ruth Bernardo de “Enredadas». \n\nPara participar es necesario inscribirse en la sala infantil de manera presencial a partir del día 27 de octubre a las 10:00 h. Las inscripciones para todos los talleres del mes se realizarán en la misma fecha. \nEs obligatorio que el niño disponga del carné de usuario de las Bibliotecas de Castilla y León. \nDuración: 60 minutos aprox.\nParticipantes: máximo 12 niños y niñas\nEdad: a partir de 4 años\nInscripciones: a partir del 27 de octubre (10:00h.) \nMartes 28 de noviembre de 2023 a las 18:30 horas: «Cuentos de otoño»\, de Lucía\, mi pediatra\nLola es la protagonista de estos cuentos. Su pediatra le enseñará a afrontar la vida para ser una niña lista\, amable\, bondadosa\, pero sobre todo feliz. Las pequeñas lecturas giran en torno al otoño y a las cosas que suceden en esta estación: la vuelta al cole o las frutas y verduras de esta temporada. Además\, Lola hace un amigo nuevo que se llama Álvaro. Descubrirá que su amigo tiene una enfermedad rara y con la ayuda de su pediatra conseguirá entenderla y ayudarlo en todo lo que pueda. \nMás información.
URL:https://enredadasconelpatrimonio.es/event/jugando-con-los-cuentos-cuentos-de-otono-de-lucia-mi-pediatra
LOCATION:Biblioteca de Castilla y León\, Plaza Trinidad\, 2\, Valladolid\, Valladolid\, 47003\, España
CATEGORIES:Cuentacuentos
END:VEVENT
END:VCALENDAR