BEGIN:VCALENDAR
VERSION:2.0
PRODID:-//Enredadas - ECPv6.15.20//NONSGML v1.0//EN
CALSCALE:GREGORIAN
METHOD:PUBLISH
X-WR-CALNAME:Enredadas
X-ORIGINAL-URL:https://enredadasconelpatrimonio.es
X-WR-CALDESC:Eventos para Enredadas
REFRESH-INTERVAL;VALUE=DURATION:PT1H
X-Robots-Tag:noindex
X-PUBLISHED-TTL:PT1H
BEGIN:VTIMEZONE
TZID:UTC
BEGIN:STANDARD
TZOFFSETFROM:+0000
TZOFFSETTO:+0000
TZNAME:UTC
DTSTART:20220101T000000
END:STANDARD
END:VTIMEZONE
BEGIN:VEVENT
DTSTART;VALUE=DATE:20231103
DTEND;VALUE=DATE:20231104
DTSTAMP:20260420T091225
CREATED:20231002T092528Z
LAST-MODIFIED:20231029T111740Z
UID:1754-1698969600-1699055999@enredadasconelpatrimonio.es
SUMMARY:Jornada Hilando Extremos en Granja de Torrehermosa (Badajoz)
DESCRIPTION:El próximo 3 de noviembre tendrá lugar la primera jornada del proyecto Hilando Extremos en la Casa de Cultura de Granja de Torrehermosa (Badajoz). \nHilando Extremos es un proyecto artístico inspirado en la cultura pastoril\, que busca poner en valor la importancia de la trashumancia en el contexto social\, cultural y económico actual de Extremadura. Está financiado por la Unión Eu­ropea – NextGenerationEU a través de las ayudas para la financiación de proyectos o iniciativas destinadas a ampliar y diversificar la oferta cultural en áreas no urbanas. \nLa jornada\, que se desarrolla a lo largo de un día completo\, incluye la proyección de un cortometraje\, un taller\, una ruta interactiva y un espectáculo teatral. \nEn este proyecto colaboran otras pequeñas empresas del sector cultural como: Darling Films\, Teselas Gestión Cultural\, Antonio del Hoyo\, AnaiLana\, Libera Teatro y David Romo (HERHEY!) \nPrograma de la jornada «Hilando Extremos» en Granja de Torrehermosa:\n11:00 h. Presentación del proyecto por Marta Herrarte\, directora del proyecto (Enredadas con el patrimonio). Casa de la Cultura. Avda. de Extremadura\, 11. \n12:00 h. Proyección del cortometraje Camino de pastores\, producido por Jelena Dragas (Darling Films) y Enredadas. A continuación\, se abrirá un debate con la participación ciudadana. \n12:30-14:00 h. Taller intergeneracional “Hilando extremos\, hilando historias” impartido por Enredadas con el patrimonio. Carbogás. Carretera del Parque\, 11. \n16:30-18:30 h. Ruta interactiva  “Trashumante” para todos los públicos por Ruth Bernardo (Enredadas). Salida desde Plaza Francisco Tejada Vizuete. \n16:00 a 20:30 h. Exposición efímera El tendedero de las historias\, diseñada por Anailana. Casa de la Cultura. Avda. de Extremadura\, 11. \n19:00  h. Espectáculo teatral Tirar del hilo\, por Libera Teatro. Casa de la Cultura. Avda. de Extremadura\, 11. \nDescarga el programa completo aquí.
URL:https://enredadasconelpatrimonio.es/event/jornada-hilando-extremos-en-granja-de-torrehermosa-badajoz
LOCATION:Casa de la Cultura\, Avenida de Extremadura\, Granja de Torrehermosa\, Badajoz\, 06910\, España
CATEGORIES:Jornadas Hilando Extremos
ATTACH;FMTTYPE=image/jpeg:https://enredadasconelpatrimonio.es/wp-content/uploads/2023/10/PORTADAS-DE-EVENTOS-AGENDA-ENREDADA-1.jpg
END:VEVENT
END:VCALENDAR