BEGIN:VCALENDAR
VERSION:2.0
PRODID:-//Enredadas - ECPv6.15.20//NONSGML v1.0//EN
CALSCALE:GREGORIAN
METHOD:PUBLISH
X-WR-CALNAME:Enredadas
X-ORIGINAL-URL:https://enredadasconelpatrimonio.es
X-WR-CALDESC:Eventos para Enredadas
REFRESH-INTERVAL;VALUE=DURATION:PT1H
X-Robots-Tag:noindex
X-PUBLISHED-TTL:PT1H
BEGIN:VTIMEZONE
TZID:UTC
BEGIN:STANDARD
TZOFFSETFROM:+0000
TZOFFSETTO:+0000
TZNAME:UTC
DTSTART:20230101T000000
END:STANDARD
END:VTIMEZONE
BEGIN:VEVENT
DTSTART;TZID=UTC:20240701T103000
DTEND;TZID=UTC:20240701T123000
DTSTAMP:20260420T091107
CREATED:20240624T163632Z
LAST-MODIFIED:20240624T164226Z
UID:2135-1719829800-1719837000@enredadasconelpatrimonio.es
SUMMARY:Imaginando el mundo
DESCRIPTION:Dirigido a niñas y niños de 6 a 12 años.
URL:https://enredadasconelpatrimonio.es/event/imaginando-el-mundo
LOCATION:Centro Municipal de Igualdad\, C. Antonio Royo Villanova\, s/n\, Valladolid\, Valladolid\, 47014\, España
CATEGORIES:Talleres
ATTACH;FMTTYPE=image/jpeg:https://enredadasconelpatrimonio.es/wp-content/uploads/2024/06/1_-julio-calabacin-imaginando.jpg
ORGANIZER;CN="Centro Municipal de Igualdad":MAILTO:lramos@ava.es
END:VEVENT
END:VCALENDAR