BEGIN:VCALENDAR
VERSION:2.0
PRODID:-//Enredadas - ECPv6.15.20//NONSGML v1.0//EN
CALSCALE:GREGORIAN
METHOD:PUBLISH
X-WR-CALNAME:Enredadas
X-ORIGINAL-URL:https://enredadasconelpatrimonio.es
X-WR-CALDESC:Eventos para Enredadas
REFRESH-INTERVAL;VALUE=DURATION:PT1H
X-Robots-Tag:noindex
X-PUBLISHED-TTL:PT1H
BEGIN:VTIMEZONE
TZID:UTC
BEGIN:STANDARD
TZOFFSETFROM:+0000
TZOFFSETTO:+0000
TZNAME:UTC
DTSTART:20220101T000000
END:STANDARD
END:VTIMEZONE
BEGIN:VEVENT
DTSTART;TZID=UTC:20231222T103000
DTEND;TZID=UTC:20231222T123000
DTSTAMP:20260420T150545
CREATED:20231215T091336Z
LAST-MODIFIED:20231215T091344Z
UID:1965-1703241000-1703248200@enredadasconelpatrimonio.es
SUMMARY:III Jornada. Enredos de Patrimonio: Jornadas de Educación Patrimonial de La Seca (Valladolid)
DESCRIPTION:Los días 18\, 20 y 22 de diciembre de 2023 impartimos Enredos de Patrimonio. Jornadas de Educación Patrimonial de La Seca en Centro Social de La Seca (Valladolid) con diferentes talleres: \n\nTaller de educación patrimonial “Empoderamiento y (re)conocimiento del patrimonio local: Se aprecia lo que se conoce” dirigido a personas adultas y mujeres cuidadoras del patrimonio rural.\nTaller de educación patrimonial: “Recuerdos del ayer: El patrimonio religioso perdido. Mirada en femenino y transmisión oral (Recopilación)”.\n\nSe trabajarán historias personales como la memoria de nuestro entorno a través de la «Caja de los recuerdos» y la Interpretación Patrimonial desde la transmisión de saberes heredados. \n🗓 18\, 20 y 22 de diciembre.\n⌚️10.30 horas.\n🏫 Centro Social de La Seca.\n🎫 Entrada libre hasta completar aforo.
URL:https://enredadasconelpatrimonio.es/event/iii-jornada-enredos-de-patrimonio-jornadas-de-educacion-patrimonial-de-la-seca
LOCATION:Centro Social de La Seca\, Travesía La Iglesia s/n\, La Seca\, Valladolid\, España
CATEGORIES:Cursos
END:VEVENT
END:VCALENDAR