BEGIN:VCALENDAR
VERSION:2.0
PRODID:-//Enredadas - ECPv6.15.20//NONSGML v1.0//EN
CALSCALE:GREGORIAN
METHOD:PUBLISH
X-WR-CALNAME:Enredadas
X-ORIGINAL-URL:https://enredadasconelpatrimonio.es
X-WR-CALDESC:Eventos para Enredadas
REFRESH-INTERVAL;VALUE=DURATION:PT1H
X-Robots-Tag:noindex
X-PUBLISHED-TTL:PT1H
BEGIN:VTIMEZONE
TZID:UTC
BEGIN:STANDARD
TZOFFSETFROM:+0000
TZOFFSETTO:+0000
TZNAME:UTC
DTSTART:20220101T000000
END:STANDARD
END:VTIMEZONE
BEGIN:VEVENT
DTSTART;TZID=UTC:20231215T190000
DTEND;TZID=UTC:20231215T200000
DTSTAMP:20260420T091151
CREATED:20231214T131223Z
LAST-MODIFIED:20231214T131432Z
UID:1955-1702666800-1702670400@enredadasconelpatrimonio.es
SUMMARY:El Circo de Claudia en Galerias VA (Valladolid)
DESCRIPTION:Claudia llega con su circo a la las Galerias VA (Valladolid) dentro de la Feria Creativa de Navidad el 15 de diciembre para cantar\, jugar y soñar con todos los niños y niñas.\n\nLugar: Galerias VA.C. López Gómez\, 28\, 47002 Valladolid.\n\n\nHorario: 19:00 a 20:00 h.
URL:https://enredadasconelpatrimonio.es/event/el-circo-de-claudia-galeriasva
LOCATION:Galerías VA\, C. López Gómez\, 28\, Valladolid\, Valladolid\, 47002
CATEGORIES:Cuentacuentos,Talleres
END:VEVENT
END:VCALENDAR