BEGIN:VCALENDAR
VERSION:2.0
PRODID:-//Enredadas - ECPv6.15.20//NONSGML v1.0//EN
CALSCALE:GREGORIAN
METHOD:PUBLISH
X-WR-CALNAME:Enredadas
X-ORIGINAL-URL:https://enredadasconelpatrimonio.es
X-WR-CALDESC:Eventos para Enredadas
REFRESH-INTERVAL;VALUE=DURATION:PT1H
X-Robots-Tag:noindex
X-PUBLISHED-TTL:PT1H
BEGIN:VTIMEZONE
TZID:UTC
BEGIN:STANDARD
TZOFFSETFROM:+0000
TZOFFSETTO:+0000
TZNAME:UTC
DTSTART:20230101T000000
END:STANDARD
END:VTIMEZONE
BEGIN:VEVENT
DTSTART;TZID=UTC:20240708T103000
DTEND;TZID=UTC:20240708T123000
DTSTAMP:20260420T091113
CREATED:20240624T163954Z
LAST-MODIFIED:20240624T163954Z
UID:2139-1720434600-1720441800@enredadasconelpatrimonio.es
SUMMARY:Cuerpazos con Arte
DESCRIPTION:Dirigido a personas adultas a partir de 16 años.
URL:https://enredadasconelpatrimonio.es/event/cuerpazos-con-arte
LOCATION:Centro Municipal de Igualdad\, C. Antonio Royo Villanova\, s/n\, Valladolid\, Valladolid\, 47014\, España
CATEGORIES:Talleres
ATTACH;FMTTYPE=image/jpeg:https://enredadasconelpatrimonio.es/wp-content/uploads/2024/06/8_-julio-calabacin-cuerpazos-RRSS-e1719247184446.jpg
ORGANIZER;CN="Centro Municipal de Igualdad":MAILTO:lramos@ava.es
END:VEVENT
END:VCALENDAR