BEGIN:VCALENDAR
VERSION:2.0
PRODID:-//Enredadas - ECPv6.15.20//NONSGML v1.0//EN
CALSCALE:GREGORIAN
METHOD:PUBLISH
X-WR-CALNAME:Enredadas
X-ORIGINAL-URL:https://enredadasconelpatrimonio.es
X-WR-CALDESC:Eventos para Enredadas
REFRESH-INTERVAL;VALUE=DURATION:PT1H
X-Robots-Tag:noindex
X-PUBLISHED-TTL:PT1H
BEGIN:VTIMEZONE
TZID:UTC
BEGIN:STANDARD
TZOFFSETFROM:+0000
TZOFFSETTO:+0000
TZNAME:UTC
DTSTART:20220101T000000
END:STANDARD
END:VTIMEZONE
BEGIN:VEVENT
DTSTART;TZID=UTC:20231226T110000
DTEND;TZID=UTC:20231226T130000
DTSTAMP:20260420T150402
CREATED:20231218T081350Z
LAST-MODIFIED:20231218T081455Z
UID:1969-1703588400-1703595600@enredadasconelpatrimonio.es
SUMMARY:Colores\, olores y sabores de la Navidad
DESCRIPTION:Taller qué recorre las diferentes tradiciones navideñas en Europa: olores\, sabores\, colores\, texturas que dan forma a los adornos\, dulces\, música\, ritos\, regalos\, juegos y encuentros navideños. \nFecha: 26 de diciembre de 2023\, a las 11:oo h. \nLugar: Centro Municipal de Igualdad.
URL:https://enredadasconelpatrimonio.es/event/colores-olores-y-sabores-de-la-navidad
LOCATION:Centro Municipal de Igualdad\, C. Antonio Royo Villanova\, s/n\, Valladolid\, Valladolid\, 47014\, España
CATEGORIES:Talleres
END:VEVENT
END:VCALENDAR