BEGIN:VCALENDAR
VERSION:2.0
PRODID:-//Enredadas - ECPv6.15.20//NONSGML v1.0//EN
CALSCALE:GREGORIAN
METHOD:PUBLISH
X-WR-CALNAME:Enredadas
X-ORIGINAL-URL:https://enredadasconelpatrimonio.es
X-WR-CALDESC:Eventos para Enredadas
REFRESH-INTERVAL;VALUE=DURATION:PT1H
X-Robots-Tag:noindex
X-PUBLISHED-TTL:PT1H
BEGIN:VTIMEZONE
TZID:UTC
BEGIN:STANDARD
TZOFFSETFROM:+0000
TZOFFSETTO:+0000
TZNAME:UTC
DTSTART:20230101T000000
END:STANDARD
END:VTIMEZONE
BEGIN:VEVENT
DTSTART;TZID=UTC:20240105T170000
DTEND;TZID=UTC:20240105T170000
DTSTAMP:20260420T161703
CREATED:20231221T153914Z
LAST-MODIFIED:20231221T153914Z
UID:1978-1704474000-1704474000@enredadasconelpatrimonio.es
SUMMARY:Cabalgata de Reyes en Tudela de Duero
DESCRIPTION:Enredadas con el patrimonio participa en la cabalgata de Reyes de Tudela de Duero.\n\n\n\n18:30 h. Desde Los Palacios hasta el Polideportivo San Roque “Félix Martín Serna”
URL:https://enredadasconelpatrimonio.es/event/cabalgata-de-reyes-en-tudela-de-duero
CATEGORIES:Otras actividades
END:VEVENT
END:VCALENDAR